BEGIN:VCALENDAR
VERSION:2.0
PRODID:-//Pfarrreiengemeinschaft 12 Apostel am Tor zum Spessart - ECPv6.15.17//NONSGML v1.0//EN
CALSCALE:GREGORIAN
METHOD:PUBLISH
X-ORIGINAL-URL:https://www.pg-12-apostel.de
X-WR-CALDESC:Veranstaltungen für Pfarrreiengemeinschaft 12 Apostel am Tor zum Spessart
REFRESH-INTERVAL;VALUE=DURATION:PT1H
X-Robots-Tag:noindex
X-PUBLISHED-TTL:PT1H
BEGIN:VTIMEZONE
TZID:Europe/Berlin
BEGIN:DAYLIGHT
TZOFFSETFROM:+0100
TZOFFSETTO:+0200
TZNAME:CEST
DTSTART:20230326T010000
END:DAYLIGHT
BEGIN:STANDARD
TZOFFSETFROM:+0200
TZOFFSETTO:+0100
TZNAME:CET
DTSTART:20231029T010000
END:STANDARD
BEGIN:DAYLIGHT
TZOFFSETFROM:+0100
TZOFFSETTO:+0200
TZNAME:CEST
DTSTART:20240331T010000
END:DAYLIGHT
BEGIN:STANDARD
TZOFFSETFROM:+0200
TZOFFSETTO:+0100
TZNAME:CET
DTSTART:20241027T010000
END:STANDARD
BEGIN:DAYLIGHT
TZOFFSETFROM:+0100
TZOFFSETTO:+0200
TZNAME:CEST
DTSTART:20250330T010000
END:DAYLIGHT
BEGIN:STANDARD
TZOFFSETFROM:+0200
TZOFFSETTO:+0100
TZNAME:CET
DTSTART:20251026T010000
END:STANDARD
END:VTIMEZONE
BEGIN:VEVENT
DTSTART;TZID=Europe/Berlin:20240110T193000
DTEND;TZID=Europe/Berlin:20240110T210000
DTSTAMP:20260421T072806
CREATED:20231119T083940Z
LAST-MODIFIED:20231119T083941Z
UID:10000139-1704915000-1704920400@www.pg-12-apostel.de
SUMMARY:Grundkurs AT II: Propheten und Weisheitsbücher
DESCRIPTION:Im zweiten Teil des  Grundkurs AT stehen die Überlieferung der Propheten Israels und die Weisheitsschriften im Mittelpunkt
URL:https://www.pg-12-apostel.de/event/grundkurs-at-ii-propheten-und-weisheitsbuecher/2024-01-10/
LOCATION:Pfarrheim St. Michael\, Kleine Kirchgasse 4\, 97816 Lohr am Main\, Deutschland
CATEGORIES:Startseite
ATTACH;FMTTYPE=image/jpeg:https://www.pg-12-apostel.de/wp-content/uploads/2023/11/Propheten.jpg
ORGANIZER;CN="Sven Johannsen":MAILTO:pg.lohr@bistum-wuerzburg.de
END:VEVENT
BEGIN:VEVENT
DTSTART;TZID=Europe/Berlin:20240124T193000
DTEND;TZID=Europe/Berlin:20240124T210000
DTSTAMP:20260421T072806
CREATED:20231119T083940Z
LAST-MODIFIED:20231119T083941Z
UID:10000140-1706124600-1706130000@www.pg-12-apostel.de
SUMMARY:Grundkurs AT II: Propheten und Weisheitsbücher
DESCRIPTION:Im zweiten Teil des  Grundkurs AT stehen die Überlieferung der Propheten Israels und die Weisheitsschriften im Mittelpunkt
URL:https://www.pg-12-apostel.de/event/grundkurs-at-ii-propheten-und-weisheitsbuecher/2024-01-24/
LOCATION:Pfarrheim St. Michael\, Kleine Kirchgasse 4\, 97816 Lohr am Main\, Deutschland
CATEGORIES:Startseite
ATTACH;FMTTYPE=image/jpeg:https://www.pg-12-apostel.de/wp-content/uploads/2023/11/Propheten.jpg
ORGANIZER;CN="Sven Johannsen":MAILTO:pg.lohr@bistum-wuerzburg.de
END:VEVENT
END:VCALENDAR