BEGIN:VCALENDAR
VERSION:2.0
PRODID:-//Pfarrreiengemeinschaft 12 Apostel am Tor zum Spessart - ECPv6.15.17//NONSGML v1.0//EN
CALSCALE:GREGORIAN
METHOD:PUBLISH
X-WR-CALNAME:Pfarrreiengemeinschaft 12 Apostel am Tor zum Spessart
X-ORIGINAL-URL:https://www.pg-12-apostel.de
X-WR-CALDESC:Veranstaltungen für Pfarrreiengemeinschaft 12 Apostel am Tor zum Spessart
REFRESH-INTERVAL;VALUE=DURATION:PT1H
X-Robots-Tag:noindex
X-PUBLISHED-TTL:PT1H
BEGIN:VTIMEZONE
TZID:Europe/Berlin
BEGIN:DAYLIGHT
TZOFFSETFROM:+0100
TZOFFSETTO:+0200
TZNAME:CEST
DTSTART:20230326T010000
END:DAYLIGHT
BEGIN:STANDARD
TZOFFSETFROM:+0200
TZOFFSETTO:+0100
TZNAME:CET
DTSTART:20231029T010000
END:STANDARD
BEGIN:DAYLIGHT
TZOFFSETFROM:+0100
TZOFFSETTO:+0200
TZNAME:CEST
DTSTART:20240331T010000
END:DAYLIGHT
BEGIN:STANDARD
TZOFFSETFROM:+0200
TZOFFSETTO:+0100
TZNAME:CET
DTSTART:20241027T010000
END:STANDARD
BEGIN:DAYLIGHT
TZOFFSETFROM:+0100
TZOFFSETTO:+0200
TZNAME:CEST
DTSTART:20250330T010000
END:DAYLIGHT
BEGIN:STANDARD
TZOFFSETFROM:+0200
TZOFFSETTO:+0100
TZNAME:CET
DTSTART:20251026T010000
END:STANDARD
END:VTIMEZONE
BEGIN:VEVENT
DTSTART;TZID=Europe/Berlin:20240306T193000
DTEND;TZID=Europe/Berlin:20240306T210000
DTSTAMP:20260421T042355
CREATED:20231119T083940Z
LAST-MODIFIED:20231119T083941Z
UID:10000143-1709753400-1709758800@www.pg-12-apostel.de
SUMMARY:Grundkurs AT II: Propheten und Weisheitsbücher
DESCRIPTION:Im zweiten Teil des  Grundkurs AT stehen die Überlieferung der Propheten Israels und die Weisheitsschriften im Mittelpunkt
URL:https://www.pg-12-apostel.de/event/grundkurs-at-ii-propheten-und-weisheitsbuecher/2024-03-06/
LOCATION:Pfarrheim St. Michael\, Kleine Kirchgasse 4\, 97816 Lohr am Main\, Deutschland
CATEGORIES:Startseite
ATTACH;FMTTYPE=image/jpeg:https://www.pg-12-apostel.de/wp-content/uploads/2023/11/Propheten.jpg
ORGANIZER;CN="Sven Johannsen":MAILTO:pg.lohr@bistum-wuerzburg.de
END:VEVENT
BEGIN:VEVENT
DTSTART;TZID=Europe/Berlin:20240320T193000
DTEND;TZID=Europe/Berlin:20240320T210000
DTSTAMP:20260421T042355
CREATED:20231119T083940Z
LAST-MODIFIED:20231119T083941Z
UID:10000144-1710963000-1710968400@www.pg-12-apostel.de
SUMMARY:Grundkurs AT II: Propheten und Weisheitsbücher
DESCRIPTION:Im zweiten Teil des  Grundkurs AT stehen die Überlieferung der Propheten Israels und die Weisheitsschriften im Mittelpunkt
URL:https://www.pg-12-apostel.de/event/grundkurs-at-ii-propheten-und-weisheitsbuecher/2024-03-20/
LOCATION:Pfarrheim St. Michael\, Kleine Kirchgasse 4\, 97816 Lohr am Main\, Deutschland
CATEGORIES:Startseite
ATTACH;FMTTYPE=image/jpeg:https://www.pg-12-apostel.de/wp-content/uploads/2023/11/Propheten.jpg
ORGANIZER;CN="Sven Johannsen":MAILTO:pg.lohr@bistum-wuerzburg.de
END:VEVENT
BEGIN:VEVENT
DTSTART;TZID=Europe/Berlin:20240324T173000
DTEND;TZID=Europe/Berlin:20240324T190000
DTSTAMP:20260421T042355
CREATED:20240212T090838Z
LAST-MODIFIED:20240319T064837Z
UID:10000561-1711301400-1711306800@www.pg-12-apostel.de
SUMMARY:Passionskonzert "MISERERE"
DESCRIPTION:Musikalisch wertvoll\, sozial relevant und mit einer klaren Botschaft.\nDie Werke von J. D. Zelenka (Zeitgenosse Bachs)\, J. A. Hasse (Komponist des Spätbarock) und A. Vivaldi behandeln Themen wie Angst\, Zerstörung und Hoffnung. All dies im stets eleganten Gewand der barocken Klänge\, die uns mit in unbequeme Tiefen nehmen bevor wir schließlich im „Miserere mei\, Deus“ Hoffnung schöpfen dürfen. \nKantorei St. Michael \nMusiker*innen der Hochschule für Musik Würzburg und weitere herausragende Gastmusiker*innen \nLeitung: Tyron Kretzschmar \nDauer: ca. 80 Minuten \nKarten zu 15\,- Euro / erm. 10\,- im Pfarrbüro oder in der Buchhandlung \n 
URL:https://www.pg-12-apostel.de/event/passionskonzert-miserere/
ATTACH;FMTTYPE=image/jpeg:https://www.pg-12-apostel.de/wp-content/uploads/2024/02/Passionskonzert-2.jpg
END:VEVENT
END:VCALENDAR